BEGIN:VCALENDAR
VERSION:2.0
PRODID:-//Plone.org//NONSGML plone.app.event//EN
X-WR-TIMEZONE:Europe/Madrid
BEGIN:VEVENT
SUMMARY:Training programme for impactful researchers
DTSTART;VALUE=DATE:20260131
DTEND;VALUE=DATE:20260201
DTSTAMP:20260424T125359Z
UID:50ef1dc1220c4907a797323249c1084c@rdi.upc.edu
CATEGORIES:@Esdeveniment
CONTACT:http://impactfulresearchercareers.eu/training-programme/
CREATED:20260126T105652Z
DESCRIPTION:Ja estan obertes les inscripcions al Training programme for im
 pactful researchers\, una formació gratuïta adreçada a investigadors/es
  de totes les disciplines de l’aliança Unite!
LAST-MODIFIED:20260213T100009Z
URL:https://rdi.upc.edu/ca/actualitat/esdeveniments/training-programme-for
 -impactful-researchers
END:VEVENT
END:VCALENDAR
