BEGIN:VCALENDAR
VERSION:2.0
PRODID:-//Plone.org//NONSGML plone.app.event//EN
X-WR-TIMEZONE:Europe/Madrid
BEGIN:VEVENT
SUMMARY:Widening Training Series
DTSTART;VALUE=DATE:20260202
DTEND;VALUE=DATE:20260203
DTSTAMP:20260425T044330Z
UID:061b8c28831e460fb7c12f61442985aa@rdi.upc.edu
CATEGORIES:@Esdeveniment
CONTACT:https://unite-widening.eu/2025/12/16/developing-skills-for-researc
 hers-at-all-career-stages/
CREATED:20260128T101310Z
DESCRIPTION:Apunta’t al programa Unite! Widening\, una iniciativa de for
 mació pràctica i avançada adreçada a investigadors i investigadores de
  totes les etapes per reforçar competències clau i fomentar la col·labo
 ració dins l’aliança.
LAST-MODIFIED:20260129T120545Z
URL:https://rdi.upc.edu/ca/actualitat/esdeveniments/widening-training-seri
 es
END:VEVENT
END:VCALENDAR
