BEGIN:VCALENDAR
VERSION:2.0
PRODID:-//Plone.org//NONSGML plone.app.event//EN
X-WR-TIMEZONE:Europe/Madrid
BEGIN:VEVENT
SUMMARY:Convocatòria d’Accions d’Innovació i Coneixement 2026 de l
 ’AECID
DTSTART;VALUE=DATE:20260401
DTEND;VALUE=DATE:20260509
DTSTAMP:20260424T170121Z
UID:6228802d146f4b37b7e8b69b63f31ae9@rdi.upc.edu
CATEGORIES:Participació: Col·laboratiu,Àmbit: Sociocultural,Finançamen
 t: Públic
CONTACT:Unitat Transversal de Gestió Econòmica (STGE)\, sonia.navarro@up
 c.edu
CREATED:20260302T100931Z
DESCRIPTION:Convocatòria adreçada a cofinançar determinades activitats 
  per a la realització d'accions de cooperació per al desenvolupament en 
 l'àmbit de la innovació i el coneixement. Termini:  Previsió 2na quinze
 na d’abril
LAST-MODIFIED:20260407T081328Z
URL:https://rdi.upc.edu/ca/financament/recerca-innovacio/aecid-2026
END:VEVENT
END:VCALENDAR
