BEGIN:VCALENDAR
VERSION:2.0
PRODID:-//Plone.org//NONSGML plone.app.event//EN
X-WR-TIMEZONE:Europe/Madrid
BEGIN:VEVENT
SUMMARY:Ajuts a treballs de recerca sobre polítiques públiques 2025 (EAP
 C)
DTSTART;VALUE=DATE:20250203
DTEND;VALUE=DATE:20250304
DTSTAMP:20260424T200314Z
UID:c17891f6b569488f9792b8c1b2bea391@rdi.upc.edu
CATEGORIES:Finançament: Públic,TRL: R+D,Participació: Individual,Àmbit
 : Sociocultural
CONTACT:Unitat de Projectes Nacionals\, cttinfo.nacionals@upc.edu
CREATED:20231025T071233Z
DESCRIPTION:Adreçada a universitats i centres de recerca de Catalunya. Te
 rmini: 03/02/2025 - 03/03/2025. Termini intern: 24/02/2025
LAST-MODIFIED:20241203T121652Z
URL:https://rdi.upc.edu/ca/financament/recerca-innovacio/eapc_2025
END:VEVENT
END:VCALENDAR
