BEGIN:VCALENDAR
VERSION:2.0
PRODID:-//Plone.org//NONSGML plone.app.event//EN
X-WR-TIMEZONE:Europe/Madrid
BEGIN:VEVENT
SUMMARY:EARMA Conference 2024
DTSTART;VALUE=DATE:20240423
DTEND;VALUE=DATE:20240426
DTSTAMP:20260424T125804Z
UID:78ae678caa024e41bef0df2a72aa75c9@rdi.upc.edu
CATEGORIES:@Event
CONTACT:https://earma.org/conferences/earma-conference-odense-2024/
CREATED:20240422T145809Z
DESCRIPTION:European Association of Research Managers and Administrators C
 onference 2024
LAST-MODIFIED:20240422T145851Z
URL:https://rdi.upc.edu/en/current-affairs/events/earma-conference-2024
END:VEVENT
END:VCALENDAR
