BEGIN:VCALENDAR
VERSION:2.0
PRODID:-//Plone.org//NONSGML plone.app.event//EN
X-WR-TIMEZONE:Europe/Madrid
BEGIN:VEVENT
SUMMARY:Stepping into Agora
DTSTART;TZID=Europe/Madrid:20260130T083000
DTEND;TZID=Europe/Madrid:20260130T130000
DTSTAMP:20260419T155113Z
UID:7ad5ccc93cda45e5a161267aeeb0cfe0@rdi.upc.edu
CATEGORIES:@Event
CONTACT:agora@aupaeu.widening.eu\, https://aupaeu.widening.eu/event/steppi
 ng-into-agora-10/
CREATED:20251118T124758Z
DESCRIPTION:Take part in the aUPaEU workshop "Stepping into Agora: a discu
 ssion with co-creators\, lead users and policy experts". Meet the Agora se
 rvice co-creators and engage in dialogue with HEI policy experts.
LAST-MODIFIED:20251118T124945Z
LOCATION:Carrer d'Esteve Terradas\, 7 08860 Castelldefels (Barcelona) Spai
 n
URL:https://rdi.upc.edu/en/current-affairs/events/stepping-into-agora
END:VEVENT
BEGIN:VTIMEZONE
TZID:Europe/Madrid
X-LIC-LOCATION:Europe/Madrid
BEGIN:STANDARD
DTSTART:20251026T020000
TZNAME:CET
TZOFFSETFROM:+0200
TZOFFSETTO:+0100
END:STANDARD
END:VTIMEZONE
END:VCALENDAR
